BEGIN:VCALENDAR
CALSCALE:GREGORIAN
METHOD:PUBLISH
VERSION:2.0
PRODID:-//iCalWriter OpenSource Project//iCalWriter 0.8.1//EN
BEGIN:VEVENT
DTSTAMP:20260420T142936Z
UID:1776695376adVU@www.visitschoenebeck.de
DTSTART:20250720T160000
DTEND;VALUE=DATE:20250720
SUMMARY:Operettensommer
DESCRIPTION:Die Mitteldeutsche Kammerphilharmonie Schönebeck lädt Sie herzlich zum 27. Schönebecker Operettensommer ein.
Gespielt wird mittwochs bis sonntags, immer um 16:00 Uhr, auf der Waldbühne im Heimattiergarten „Bierer Berg“
 
LOCATION:Tierpark "Bierer Berg" 
		39218 Schönebeck (Elbe)
	
CATEGORIES:Musik
URL:https://www.visitschoenebeck.de/de/tourismus-veranstaltung-details/event/95310,1274/operettensommer-20-07-2025.html
ATTACH:https://www.visitschoenebeck.de/de/datei/anzeigen/id/95862,1274/va_operettensommer_2025.jpg
END:VEVENT
END:VCALENDAR
