BEGIN:VCALENDAR
CALSCALE:GREGORIAN
METHOD:PUBLISH
VERSION:2.0
PRODID:-//iCalWriter OpenSource Project//iCalWriter 0.8.1//EN
BEGIN:VEVENT
DTSTAMP:20260424T102918Z
UID:1777026558WrtX@www.visitschoenebeck.de
DTSTART:20250419T190000
DTEND;VALUE=DATE:20250419
SUMMARY:Osterfeuer
DESCRIPTION:Förderverein Feuerwehr Ranies e.V. Ranies, 140m östlich der Deichüberfahrt Höhe Dorfstraße 39, 19.04.2025, 19 Uhr
LOCATION:Gaststätte Zur Tanne 
		39218 Schönebeck (Elbe) / Ranies
	
CATEGORIES:Ostern
URL:https://www.visitschoenebeck.de/de/tourismus-veranstaltung-details/event/90968,1274/osterfeuer-19-04-2025.html
ATTACH:https://www.visitschoenebeck.de/de/datei/anzeigen/id/90969,1274/raniesortsschild.jpg
END:VEVENT
END:VCALENDAR
