BEGIN:VCALENDAR
CALSCALE:GREGORIAN
METHOD:PUBLISH
VERSION:2.0
PRODID:-//iCalWriter OpenSource Project//iCalWriter 0.8.1//EN
BEGIN:VEVENT
DTSTAMP:20260424T073241Z
UID:1777015961KoPV@www.visitschoenebeck.de
DTSTART:20250425T193000
DTEND:20250425T210000
SUMMARY:SCHOSTAKOWITSCH - Gegen den Krieg
DESCRIPTION:Auf einer Reise nach Dresden anlässlich eines Dokumentarfilms über die Schrecken und Folgen der Bombardierung schreibt Schostakowitsch in nur drei Tagen sein achtes Streichquartett. Es wird sein persönlichstes, sein autobiographischstes Werk, so eng mit seiner pazifistischen Haltung verknüpft, dass die Töne seiner Initialen D(e)SCH das ganze Stück beherrschen. Er sieht es quasi als eigenes Requiem: „Ich dachte darüber nach, dass, sollte ich irgendwann einmal sterben, kaum jemand ein Werk schreiben wird, das meinem Andenken gewidmet ist. Deshalb habe ich beschlossen, selbst etwas Derartiges zu schreiben. Man könnte auf seinen Einband auch schreiben: ‚Gewidmet dem Andenken des Komponisten dieses Quartetts“.
Die Schrecken der Kriege gegen das Osmanische Reich spiegeln sich in zahlreichen Werken österreichischer Komponisten des 17.und 18.Jahrhunderts wider. Überwiegt in der „Bataille“ Neubauers die Freude über den Sieg und der Stolz auf die heldenhaften Kämpfer, ist Bibers „Battalia“ eine Persiflage auf die damals üblichen Jubelwerke. Spieltechniken des 20.Jahrhunderts wie das scharfe Anreißen der Saite á la Bartók oder das Präparieren der tiefen Kontrabass-Saite mit Pergamentpapier als Ersatz einer schnarrenden Trommel werden satirisch eingesetzt und münden in den grotesken Klagegesang der verwundeten Musketiere.
In den kurzen Kontretanz Mozarts fließt wie in vielen anderen Werken der Zeit die „türkische Musik“ der Janitscharen mit Piccoloflöte und Trommeln ein.
DAS PROGRAMM:
Wolfgang Amadeus MOZART - Kontretanz "La Battaille" KV 535Heinrich Ignaz BIBER - BattaliaFrantisek Krystof NEUBAUER - Sinfonie D-Dur "La bataille" (1794)Dimitri SCHOSTAKOWITSCH - Kammersinfonie c-Moll op. 110a nach dem 8. Streichquartett
Akteure:
Orchester: Mitteldeutsche Kammerphilharmonie SchönebeckDirigent: Jan Michael HORSTMANN
Einführungsgespräch: 18.45 Uhr
 
Quelle: www.mitteldeutsche-kammerphilharmonie.de
LOCATION:St.-Jakobi-Kirche 
		39218 Schönebeck (Elbe)
	
Mitteldeutsche Kammerphilharmonie Schönebeck 39218 Schönebeck (Elbe)
CATEGORIES:Kunst/ Kultur und Literatur,Musik
URL:https://www.visitschoenebeck.de/de/tourismus-veranstaltung-details/event/79989,1274/schostakowitsch---gegen-den-krieg-25-04-2025.html
ATTACH:https://www.visitschoenebeck.de/de/datei/anzeigen/id/79990,1274/va_mkp_25.04.25.jpg
END:VEVENT
END:VCALENDAR
