BEGIN:VCALENDAR
CALSCALE:GREGORIAN
METHOD:PUBLISH
VERSION:2.0
PRODID:-//iCalWriter OpenSource Project//iCalWriter 0.8.1//EN
BEGIN:VEVENT
DTSTAMP:20260424T000934Z
UID:1776989374Odwm@www.visitschoenebeck.de
DTSTART;VALUE=DATE:20260425
DTEND;VALUE=DATE:20260627
SUMMARY:Line Jastram: Jonglage
DESCRIPTION:Vom 24. April bis zum 27. Juni 2026 zeigt das KUNST-KONTOR Schönebeck die Ausstellung „Jonglage“ mit aktuellen Arbeiten von Line Jastram. Die gezeigten Werke, die zum Großteil speziell für diese Ausstellung konzipiert wurden, thematisieren das breite Spektrum zwischenmenschlicher und künstlerischer Beziehungen – von harmonischer Leichtigkeit bis hin zu dramatischer Schwere.
Künstlerischer Ansatz
In ihrem Schaffen setzt sich Line Jastram mit ihrem künstlerischen Erbe auseinander. Während sie aus einer bekannten Künstlerfamilie stammt, emanzipiert sie sich in ihrem Werk von der figürlichen Tradition ihrer Vorfahren. Ihr Fokus liegt auf der Abstraktion:
Formensprache: Geometrische Figuren dienen als Basiselemente, die durch Teilung, Überschneidung, Anziehung oder Abstoßung miteinander interagieren.Wirkung: Durch die Kombination von verschiedenen Materialien und Farben erzeugt die Künstlerin visuelle Spannungsfelder, die unterschiedliche emotionale Zustände wie Gelassenheit, Einklang oder Einsamkeit widerspiegeln.Vielfalt: Die Werkschau umfasst mehrere Disziplinen, darunter dreidimensionale Objekte, Malerei sowie Collagen und Druckgrafiken.
Besucherinformationen auf einen Blick



Zeitraum:
24. April – 27. Juni 2026


Ort:
kunstkontor schönebeck


Öffnungszeiten:
Donnerstag: 09:00 – 12:00 Uhr und 14:00 – 18:00 UhrSamstag: 14:00 – 17:00 UhrSowie nach individueller Vereinbarung.



 
LOCATION:Kunst-Kontor 39218 Schönebeck (Elbe)
CATEGORIES:Ausstellung,Dauerausstellung
URL:https://www.visitschoenebeck.de/de/tourismus-veranstaltung-details/event/112546,1274/line-jastram-jonglage-25-04-2026.html
ATTACH:https://www.visitschoenebeck.de/de/datei/anzeigen/id/112547,1274/va_ausstellung_jonglage.jpg
END:VEVENT
END:VCALENDAR
