BEGIN:VCALENDAR
CALSCALE:GREGORIAN
METHOD:PUBLISH
VERSION:2.0
PRODID:-//iCalWriter OpenSource Project//iCalWriter 0.8.1//EN
BEGIN:VEVENT
DTSTAMP:20260420T184358Z
UID:1776710638iNPo@www.visitschoenebeck.de
DTSTART:20260502T150000
DTEND;VALUE=DATE:20260502
SUMMARY:26. Lichterfest
DESCRIPTION:Es ist wieder soweit, nachdem die ersten Blumen im Kurpark bereits wieder blühen und auch die Bäume beginnen, ihr grünes Kleid zu tragen, ist es auch wieder an der Zeit, für eine „Erleuchtung“ der besonderen Art.
Am 2. Mai 2026 steht mit dem bereits 26. Lichterfest die erste große Open-Air-Veranstaltung des Jahres im Kurpark von Bad Salzelmen an.
Wie auch im Vorjahr wird „VENTURA FOX“ für ausgelassene Stimmung sorgen. Schon viele Songs der bekannten Künstler/innen wurden von den 5 Musikern der in Mitteldeutschland ansässigen Coverband Ventura Fox dargeboten – 2026 gibt es viele neue Interpretationen.
Auch bei der gastronomischen Versorgung wird wieder auf Regionalität geachtet. Von Bratwurst, Handbrot, Langos bis süße Leckereien und einem großen Getränkeangebot ist alles mit dabei.
Präsentiert wird es auch in diesem Jahr von den Stadtwerken Schönebeck, was die Veranstalter – den SOLEPARK Schönebeck/ Bad Salzelmen – besonders freut.
LOCATION:Kurpark Schönebeck/Bad Salzelmen 
		39218 Schönebeck (Elbe)
	
CATEGORIES:Volksfeste/ Märkte
URL:https://www.visitschoenebeck.de/de/tourismus-veranstaltung-details/event/112461,1274/26-lichterfest-02-05-2026.html
ATTACH:https://www.visitschoenebeck.de/de/datei/anzeigen/id/112462,1274/kp_lichterfest_c_sp.jpg
END:VEVENT
END:VCALENDAR
