BEGIN:VCALENDAR
CALSCALE:GREGORIAN
METHOD:PUBLISH
VERSION:2.0
PRODID:-//iCalWriter OpenSource Project//iCalWriter 0.8.1//EN
BEGIN:VEVENT
DTSTAMP:20260425T164933Z
UID:1777135773lr0J@www.visitschoenebeck.de
DTSTART:20260628T150000
DTEND;VALUE=DATE:20260628
SUMMARY:5. Kurkonzert mit den Barbyer Heimatfreunden
DESCRIPTION:Der Kulturverein aus der Nachbarstadt präsentiert sich den Schönebeckern und ihren Gästen. Und die Heimatfreunde reisen mit „voller Mannschaft“ an: ein stimmgewaltiger Männerchor und drei Tanzgruppen. Der Chor serviert dem Publikum ein stimmungsvolles Menü mit unterhaltsamen Zutaten – Shantys, Schlager, Volkslieder. Die Gäste können dabei einfach nur zuhören, aber gerne auch mitsingen, mitsummen oder mitschunkeln.
Die drei Tanzgruppen-Generationen – „Tanzmäuse“, „Tanzkids“ und „Dancing Maries“ – begeistern mit tollen Choreografien zu fetzigen Rhythmen. Da dürfte für jeden Geschmack etwas dabei sein. Kommen Sie doch mit auf eine gut zweistündige Reise durch die Welt der Musik, des Gesangs und des Tanzes!
Die Barbyer Heimatfreunde sind inzwischen seit über 50 Jahren auf den Bühnen der Region unterwegs. Aktuell zählt der Verein rund 120 Mitglieder im Alter zwischen fünf und 80 Jahren. Hier wird der Begriff „generationen-übergreifend“ im wahrsten Wortsinne gelebt.
Kurkonzertsaison 2026
Auch im Jahr 2026 knüpft der Kurpark Bad Salzelmen an seine klangvolle Tradition an und lädt Besucher bis zum Spätsommer zu abwechslungsreichen Konzertnachmittagen in die blühende Parkanlage ein.
Ganz im Sinne dieser Tradition, Musik als Quell der Erholung zu nutzen, bietet das diesjährige Programm eine bunte Mischung für jeden Geschmack. Ob schwungvolle Blasmusik, maritime Klänge, moderne Pop-Interpretationen oder sanfter Jazz – die Vielfalt auf der Kurparkbühne sorgt bis in den September hinein für unvergessliche Nachmittage.
Besucher können sich jeden Sonntag zwischen 15:00 und 17:00 Uhr auf ein neues musikalisches Highlight freuen. Der Eintritt ist dabei kostenfrei, sodass einem entspannten Familienausflug bei frischer Kurparkluft nichts im Wege steht.



28.06.2026 
5. Kurkonzert
Barbyer Heimatfreunde 


12.07.2026 
6. Kurkonzert
Live Saxophone Sounds mit Rainer Schulz 


02.08.2026 
7. Kurkonzert
Böhmische Blasmusik 


16.08.2026 
8. Kurkonzert
Shantychor Schönebeck


30.08.2026 
9. Kurkonzert
Pippi and the 50's Boy


13.09.2026 
10. Kurkonzert
Bördeakkordis der Musikschule Fröhlich


27.09.2026 
11. Kurkonzert
Eiscafé Venezia präsentiert: Dings und Bums



 
LOCATION:Kurparkbühne 39218 Schönebeck (Elbe)
SOLEPARK Schönebeck/Bad Salzelmen 39218 Schönebeck (Elbe)
CATEGORIES:Musik
URL:https://www.visitschoenebeck.de/de/tourismus-veranstaltung-details/event/110821,1274/5-kurkonzert-mit-den-barbyer-heimatfreunden-28-06-2026.html
ATTACH:https://www.visitschoenebeck.de/de/datei/anzeigen/id/110824,1274/kurkonzert_heimatfreunde.jpg
END:VEVENT
END:VCALENDAR
