BEGIN:VCALENDAR
CALSCALE:GREGORIAN
METHOD:PUBLISH
VERSION:2.0
PRODID:-//iCalWriter OpenSource Project//iCalWriter 0.8.1//EN
BEGIN:VEVENT
DTSTAMP:20260425T203056Z
UID:1777149056CKUB@www.visitschoenebeck.de
DTSTART:20261209T190000
DTEND;VALUE=DATE:20261209
SUMMARY:Duftreise für die Sinne
DESCRIPTION:Ätherische Öle sind natürliche Pflanzenextrakte aus Blumen, Wurzeln, Bäumen und Samen, die über wertvolle medizinische Eigenschaften verfügen. Diese einzigartigen Flüssigkeiten sind nicht nur gut für den Körper, sondern auch für Geist und Seele. Jeder Erlebnisworkshop ist einem anderen Schwerpunkt gewidmet und lädt alle ein, die mehr über ätherische Essenzen und deren Eigenschaften erfahren möchten. Durchgeführt wird der Workshop von der Aromaspezialistin Anja Larbalette.
Dezember 2026: Duftreise „Ritual der Stille & des Friedens“
Der Dezember ist die Zeit der Einkehr und Besinnung. Unser Workshop „Ritual der Stille & des Friedens“ am 9. Dezember lädt Sie ein, sich tief im Herzen zu zentrieren und das innere Licht zu entfachen, um wahre Herzruhe zu finden.
Erleben Sie ein feierliches Ritual der Stille, unterstützt durch die traditionellen, heiligen und wärmenden Öle der Weihnachtszeit:
Weihrauch und Myrrhe: Uralte, sakrale Öle, die eine tief spirituelle Atmosphäre schaffen, das Gefühl des Friedens fördern und die Verbindung zu Ihrem inneren Licht stärken.
Zimt, Mandarine und Orange: Diese warmen, würzigen und fröhlichen Öle erzeugen eine Atmosphäre der Wärme und Freude, die das Herz erwärmt und die winterliche Schwere vertreibt.
Balsamtanne: Bringt die Ruhe und Stärke des Waldes in den Raum und hilft, sich tief zu erden
Exodus II: Diese historische Mischung erinnert an heilige Traditionen und fördert die geistige Reinigung und den inneren Fokus.
Entdecken Sie, wie Sie in der oft hektischen Weihnachtszeit wahre Stille und Frieden in sich selbst finden und mit einem zentrierten, leuchtenden Herzen ins neue Jahr starten.
Finde die Stille im Herzen – für ein strahlendes inneres Licht!
 
 
LOCATION:Kunsthof Bad Salzelmen 39218 Schönebeck (Elbe)
CATEGORIES:Sport/ Freizeit/ Gesundheit
URL:https://www.visitschoenebeck.de/de/tourismus-veranstaltung-details/event/106276,1274/duftreise-fuer-die-sinne-09-12-2026.html
ATTACH:https://www.visitschoenebeck.de/de/datei/anzeigen/id/106277,1274/va_duftreise2026.jpg
END:VEVENT
END:VCALENDAR
