BEGIN:VCALENDAR
CALSCALE:GREGORIAN
METHOD:PUBLISH
VERSION:2.0
PRODID:-//iCalWriter OpenSource Project//iCalWriter 0.8.1//EN
BEGIN:VEVENT
DTSTAMP:20260425T203140Z
UID:1777149100EeJS@www.visitschoenebeck.de
DTSTART:20261014T190000
DTEND;VALUE=DATE:20261014
SUMMARY:Duftreise für die Sinne
DESCRIPTION:Ätherische Öle sind natürliche Pflanzenextrakte aus Blumen, Wurzeln, Bäumen und Samen, die über wertvolle medizinische Eigenschaften verfügen. Diese einzigartigen Flüssigkeiten sind nicht nur gut für den Körper, sondern auch für Geist und Seele. Jeder Erlebnisworkshop ist einem anderen Schwerpunkt gewidmet und lädt alle ein, die mehr über ätherische Essenzen und deren Eigenschaften erfahren möchten. Durchgeführt wird der Workshop von der Aromaspezialistin Anja Larbalette.
Oktober 2026: Duftreise „Innere Türöffner & Schatten umarmen“
Der Oktober lädt uns ein, uns nach innen zu wenden. Unser Workshop am 14. Oktober dient als „Innerer Türöffner“, um sich der sanften Innenschau zu widmen und jene Aspekte anzunehmen, die oft im Schatten liegen.
Entdecken Sie einen Raum der Heilung und des tiefen Annehmens, in dem alle Teile Ihres Selbst willkommen sind. Wir nutzen traditionell tiefgründige, erdende und spirituelle Öle, die diesen Prozess begleiten:
Myrrhe und Weihrauch: Diese sakralen Öle werden seit Jahrhunderten zur Förderung spiritueller Klarheit, inneren Friedens und zur Stärkung der Verbindung zum tiefsten Selbst verwendet. Sie helfen, Ängste zu lösen, die uns daran hindern, unseren Schatten anzunehmen.
Salbei: Dieses klärende Öl unterstützt dabei, alte emotionale Muster zu erkennen und loszulassen, um Platz für Neues zu schaffen.
Vetiver: Ein tief erdendes Öl, das hilft, im Körper präsent zu bleiben, während man sich in tiefe emotionale Prozesse begibt. Es fördert Ruhe und emotionales Gleichgewicht.
Lernen Sie, wie Sie Ihre eigene Ganzheit erkennen und durch Akzeptanz einen tiefgreifenden Weg zur Heilung beschreiten.
Öffnen Sie die Tür nach innen – umarmen Sie Ihre Schatten und finden Sie Ganzheit!
 
 
LOCATION:Kunsthof Bad Salzelmen 39218 Schönebeck (Elbe)
CATEGORIES:Sport/ Freizeit/ Gesundheit
URL:https://www.visitschoenebeck.de/de/tourismus-veranstaltung-details/event/106264,1274/duftreise-fuer-die-sinne-14-10-2026.html
ATTACH:https://www.visitschoenebeck.de/de/datei/anzeigen/id/106265,1274/va_duftreise2026.jpg
END:VEVENT
END:VCALENDAR
