BEGIN:VCALENDAR
CALSCALE:GREGORIAN
METHOD:PUBLISH
VERSION:2.0
PRODID:-//iCalWriter OpenSource Project//iCalWriter 0.8.1//EN
BEGIN:VEVENT
DTSTAMP:20260425T171302Z
UID:1777137182GaNX@www.visitschoenebeck.de
DTSTART:20260610T190000
DTEND;VALUE=DATE:20260610
SUMMARY:Duftreise für die Sinne
DESCRIPTION:Ätherische Öle sind natürliche Pflanzenextrakte aus Blumen, Wurzeln, Bäumen und Samen, die über wertvolle medizinische Eigenschaften verfügen. Diese einzigartigen Flüssigkeiten sind nicht nur gut für den Körper, sondern auch für Geist und Seele. Jeder Erlebnisworkshop ist einem anderen Schwerpunkt gewidmet und lädt alle ein, die mehr über ätherische Essenzen und deren Eigenschaften erfahren möchten. Durchgeführt wird der Workshop von der Aromaspezialistin Anja Larbalette.
Juni 2026: Duftreise „Sonnenglut & Lebenslust: Innere Freude, Ausdehnung und Strahlen“
Der Juni bringt uns die volle Kraft des Sommers! Unser Workshop „Sonnenglut & Lebenslust“ am 10. Juni ist eine Einladung, die pure Lebensfreude zu entfachen, das Innere Kind zu befreien und Ihre gesamte Energie zur vollen Ausdehnung und zum Strahlen zu bringen.
Hierfür zeigt Ihnen die Aromaexpertin Anja Larbalette die Magie sonniger, erdender und befreiender Öle, um spielerische Leichtigkeit und inneren Glanz zu fördern:
Bergamotte und Mandarine: Diese sonnigen Zitrusöle heben die Stimmung, fördern Optimismus und helfen, Sorgen loszulassen – ideal, um das lachende Innere Kind zu wecken.
Copaiba: Dieses Öl wirkt erdend und kann eine beruhigende Wirkung auf das Nervensystem haben, was es Ihnen erlaubt, sich sicher auszudehnen und Ihr volles Potenzial zu entfalten.
Inner Child: Eine speziell entwickelte Mischung, um mit dem eigenen Kindheits-Ich in Kontakt zu treten, Kreativität und Verspieltheit zu fördern und Blockaden zu lösen, die uns am Strahlen hindern.
Lernen Sie, wie Sie Ihre innere Sonne zum Leuchten bringen und mit neuer Lebenslust in die hellsten Tage des Jahres starten!
Entfachen Sie Ihre Sonnenglut – für ein Leben voller Freude und Ausstrahlung!
 
LOCATION:Kunsthof Bad Salzelmen 39218 Schönebeck (Elbe)
CATEGORIES:Sport/ Freizeit/ Gesundheit
URL:https://www.visitschoenebeck.de/de/tourismus-veranstaltung-details/event/106234,1274/duftreise-fuer-die-sinne-10-06-2026.html
ATTACH:https://www.visitschoenebeck.de/de/datei/anzeigen/id/106235,1274/va_duftreise2026.jpg
END:VEVENT
END:VCALENDAR
